BEGIN:VCALENDAR
VERSION:2.0
PRODID:-//City of Pass Christian - ECPv6.15.20//NONSGML v1.0//EN
CALSCALE:GREGORIAN
METHOD:PUBLISH
X-ORIGINAL-URL:https://pass-christian.com
X-WR-CALDESC:Events for City of Pass Christian
REFRESH-INTERVAL;VALUE=DURATION:PT1H
X-Robots-Tag:noindex
X-PUBLISHED-TTL:PT1H
BEGIN:VTIMEZONE
TZID:America/Chicago
BEGIN:DAYLIGHT
TZOFFSETFROM:-0600
TZOFFSETTO:-0500
TZNAME:CDT
DTSTART:20220313T080000
END:DAYLIGHT
BEGIN:STANDARD
TZOFFSETFROM:-0500
TZOFFSETTO:-0600
TZNAME:CST
DTSTART:20221106T070000
END:STANDARD
BEGIN:DAYLIGHT
TZOFFSETFROM:-0600
TZOFFSETTO:-0500
TZNAME:CDT
DTSTART:20230312T080000
END:DAYLIGHT
BEGIN:STANDARD
TZOFFSETFROM:-0500
TZOFFSETTO:-0600
TZNAME:CST
DTSTART:20231105T070000
END:STANDARD
BEGIN:DAYLIGHT
TZOFFSETFROM:-0600
TZOFFSETTO:-0500
TZNAME:CDT
DTSTART:20240310T080000
END:DAYLIGHT
BEGIN:STANDARD
TZOFFSETFROM:-0500
TZOFFSETTO:-0600
TZNAME:CST
DTSTART:20241103T070000
END:STANDARD
END:VTIMEZONE
BEGIN:VEVENT
DTSTART;TZID=America/Chicago:20230507T110000
DTEND;TZID=America/Chicago:20230507T160000
DTSTAMP:20260421T163115
CREATED:20230424T183531Z
LAST-MODIFIED:20230424T184232Z
UID:15458-1683457200-1683475200@pass-christian.com
SUMMARY:Tour of Homes\, Sunday\, May 7\, 2023
DESCRIPTION:Tour of Homes\, Sunday\, May 7\, 2023 \n \n  \n 
URL:https://pass-christian.com/event/tour-of-homes-sunday-may-7-2023/
LOCATION:MS
CATEGORIES:Events
END:VEVENT
END:VCALENDAR