BEGIN:VCALENDAR
VERSION:2.0
PRODID:-//City of Pass Christian - ECPv6.15.20//NONSGML v1.0//EN
CALSCALE:GREGORIAN
METHOD:PUBLISH
X-WR-CALNAME:City of Pass Christian
X-ORIGINAL-URL:https://pass-christian.com
X-WR-CALDESC:Events for City of Pass Christian
REFRESH-INTERVAL;VALUE=DURATION:PT1H
X-Robots-Tag:noindex
X-PUBLISHED-TTL:PT1H
BEGIN:VTIMEZONE
TZID:America/Chicago
BEGIN:DAYLIGHT
TZOFFSETFROM:-0600
TZOFFSETTO:-0500
TZNAME:CDT
DTSTART:20230312T080000
END:DAYLIGHT
BEGIN:STANDARD
TZOFFSETFROM:-0500
TZOFFSETTO:-0600
TZNAME:CST
DTSTART:20231105T070000
END:STANDARD
BEGIN:DAYLIGHT
TZOFFSETFROM:-0600
TZOFFSETTO:-0500
TZNAME:CDT
DTSTART:20240310T080000
END:DAYLIGHT
BEGIN:STANDARD
TZOFFSETFROM:-0500
TZOFFSETTO:-0600
TZNAME:CST
DTSTART:20241103T070000
END:STANDARD
BEGIN:DAYLIGHT
TZOFFSETFROM:-0600
TZOFFSETTO:-0500
TZNAME:CDT
DTSTART:20250309T080000
END:DAYLIGHT
BEGIN:STANDARD
TZOFFSETFROM:-0500
TZOFFSETTO:-0600
TZNAME:CST
DTSTART:20251102T070000
END:STANDARD
END:VTIMEZONE
BEGIN:VEVENT
DTSTART;TZID=America/Chicago:20241003T140000
DTEND;TZID=America/Chicago:20241003T160000
DTSTAMP:20260421T090404
CREATED:20241208T221447Z
LAST-MODIFIED:20241208T221447Z
UID:28568-1727964000-1727971200@pass-christian.com
SUMMARY:TREE BOARD MEETING
DESCRIPTION:
URL:https://pass-christian.com/event/tree-board-meeting-7/
LOCATION:Pass Christian City Hall\, 200 West Scenic Drive\, Pass Christian\, MS\, 39571\, United States
CATEGORIES:Board and Commission Meetings
END:VEVENT
BEGIN:VEVENT
DTSTART;TZID=America/Chicago:20241003T153000
DTEND;TZID=America/Chicago:20241003T190000
DTSTAMP:20260421T090404
CREATED:20240827T142846Z
LAST-MODIFIED:20241002T211602Z
UID:25042-1727969400-1727982000@pass-christian.com
SUMMARY:Fishing with Buddies (POSTPONED ~ TBA)
DESCRIPTION:
URL:https://pass-christian.com/event/fishing-with-buddies/
LOCATION:Pass Christian Harbor (Charter Boats beneath Shaggy’s)
CATEGORIES:Events
ORGANIZER;CN="Buddy Ball":MAILTO:crawfordmike51@gmail.com
END:VEVENT
END:VCALENDAR