BEGIN:VCALENDAR
VERSION:2.0
PRODID:-//City of Pass Christian - ECPv6.15.20//NONSGML v1.0//EN
CALSCALE:GREGORIAN
METHOD:PUBLISH
X-ORIGINAL-URL:https://pass-christian.com
X-WR-CALDESC:Events for City of Pass Christian
REFRESH-INTERVAL;VALUE=DURATION:PT1H
X-Robots-Tag:noindex
X-PUBLISHED-TTL:PT1H
BEGIN:VTIMEZONE
TZID:America/Chicago
BEGIN:DAYLIGHT
TZOFFSETFROM:-0600
TZOFFSETTO:-0500
TZNAME:CDT
DTSTART:20240310T080000
END:DAYLIGHT
BEGIN:STANDARD
TZOFFSETFROM:-0500
TZOFFSETTO:-0600
TZNAME:CST
DTSTART:20241103T070000
END:STANDARD
BEGIN:DAYLIGHT
TZOFFSETFROM:-0600
TZOFFSETTO:-0500
TZNAME:CDT
DTSTART:20250309T080000
END:DAYLIGHT
BEGIN:STANDARD
TZOFFSETFROM:-0500
TZOFFSETTO:-0600
TZNAME:CST
DTSTART:20251102T070000
END:STANDARD
BEGIN:DAYLIGHT
TZOFFSETFROM:-0600
TZOFFSETTO:-0500
TZNAME:CDT
DTSTART:20260308T080000
END:DAYLIGHT
BEGIN:STANDARD
TZOFFSETFROM:-0500
TZOFFSETTO:-0600
TZNAME:CST
DTSTART:20261101T070000
END:STANDARD
END:VTIMEZONE
BEGIN:VEVENT
DTSTART;TZID=America/Chicago:20250502T193000
DTEND;TZID=America/Chicago:20250502T210000
DTSTAMP:20260422T180718
CREATED:20250417T211024Z
LAST-MODIFIED:20250417T211027Z
UID:33930-1746214200-1746219600@pass-christian.com
SUMMARY:Wild Movie Nights with Woodside Wildlife Rescue
DESCRIPTION:We are so excited to announce a COMMUNITY WIDE FREE MOVIE NIGHT every FIRST FRIDAY of each month! Woodside Wildlife Rescue will be sponsoring this enchanting al fresco movie night in War Memorial Park! There will be different themes each month\, trivia\, prizes\, and so much more! Bring your chairs\, blankets & flashlights  – Refreshments will be provided\, including Popcorn! Donations are always appreciated whereby 100% will support Woodside Wildlife Rescue (501c3 non-profit organization). Movie titles and themes will be announced soon!
URL:https://pass-christian.com/event/wild-movie-nights-with-woodside-wildlife-rescue/
LOCATION:War Memorial Park\, Pass Christian\, Mississippi\, 39571
CATEGORIES:Events
END:VEVENT
END:VCALENDAR