BEGIN:VCALENDAR
VERSION:2.0
PRODID:-//City of Pass Christian - ECPv6.15.20//NONSGML v1.0//EN
CALSCALE:GREGORIAN
METHOD:PUBLISH
X-ORIGINAL-URL:https://pass-christian.com
X-WR-CALDESC:Events for City of Pass Christian
REFRESH-INTERVAL;VALUE=DURATION:PT1H
X-Robots-Tag:noindex
X-PUBLISHED-TTL:PT1H
BEGIN:VTIMEZONE
TZID:America/Chicago
BEGIN:DAYLIGHT
TZOFFSETFROM:-0600
TZOFFSETTO:-0500
TZNAME:CDT
DTSTART:20230312T080000
END:DAYLIGHT
BEGIN:STANDARD
TZOFFSETFROM:-0500
TZOFFSETTO:-0600
TZNAME:CST
DTSTART:20231105T070000
END:STANDARD
BEGIN:DAYLIGHT
TZOFFSETFROM:-0600
TZOFFSETTO:-0500
TZNAME:CDT
DTSTART:20240310T080000
END:DAYLIGHT
BEGIN:STANDARD
TZOFFSETFROM:-0500
TZOFFSETTO:-0600
TZNAME:CST
DTSTART:20241103T070000
END:STANDARD
BEGIN:DAYLIGHT
TZOFFSETFROM:-0600
TZOFFSETTO:-0500
TZNAME:CDT
DTSTART:20250309T080000
END:DAYLIGHT
BEGIN:STANDARD
TZOFFSETFROM:-0500
TZOFFSETTO:-0600
TZNAME:CST
DTSTART:20251102T070000
END:STANDARD
BEGIN:DAYLIGHT
TZOFFSETFROM:-0600
TZOFFSETTO:-0500
TZNAME:CDT
DTSTART:20260308T080000
END:DAYLIGHT
BEGIN:STANDARD
TZOFFSETFROM:-0500
TZOFFSETTO:-0600
TZNAME:CST
DTSTART:20261101T070000
END:STANDARD
END:VTIMEZONE
BEGIN:VEVENT
DTSTART;TZID=America/Chicago:20250806T180000
DTEND;TZID=America/Chicago:20250806T200000
DTSTAMP:20260423T130435
CREATED:20250806T194027Z
LAST-MODIFIED:20250903T172445Z
UID:36236-1754503200-1754510400@pass-christian.com
SUMMARY:Budget Workshop I
DESCRIPTION:
URL:https://pass-christian.com/event/budget-workshop-i/
LOCATION:Pass Christian City Hall\, 200 West Scenic Drive\, Pass Christian\, MS\, 39571\, United States
CATEGORIES:Board and Commission Meetings,Meetings
END:VEVENT
BEGIN:VEVENT
DTSTART;TZID=America/Chicago:20250805T175700
DTEND;TZID=America/Chicago:20250805T200000
DTSTAMP:20260423T130435
CREATED:20250415T171828Z
LAST-MODIFIED:20250903T170326Z
UID:33853-1754416620-1754424000@pass-christian.com
SUMMARY:BOA 08/05/2025
DESCRIPTION:
URL:https://pass-christian.com/event/boa-08-05-2025/
LOCATION:Pass Christian City Hall\, 200 West Scenic Drive\, Pass Christian\, MS\, 39571\, United States
CATEGORIES:Board and Commission Meetings,Meetings
END:VEVENT
BEGIN:VEVENT
DTSTART;TZID=America/Chicago:20250725T090000
DTEND;TZID=America/Chicago:20250725T110000
DTSTAMP:20260423T130435
CREATED:20250725T130823Z
LAST-MODIFIED:20250806T194928Z
UID:35946-1753434000-1753441200@pass-christian.com
SUMMARY:Special Recess Meeting 7 25 2025
DESCRIPTION:
URL:https://pass-christian.com/event/special-recess-meeting-7-25-2025/
LOCATION:Scenic Drive
CATEGORIES:Board and Commission Meetings,Meetings
END:VEVENT
BEGIN:VEVENT
DTSTART;TZID=America/Chicago:20250715T175700
DTEND;TZID=America/Chicago:20250715T200000
DTSTAMP:20260423T130435
CREATED:20250415T171826Z
LAST-MODIFIED:20250806T195212Z
UID:33852-1752602220-1752609600@pass-christian.com
SUMMARY:BOA 07/15/2025
DESCRIPTION:
URL:https://pass-christian.com/event/boa-07-15-2025/
LOCATION:Pass Christian City Hall\, 200 West Scenic Drive\, Pass Christian\, MS\, 39571\, United States
CATEGORIES:Board and Commission Meetings,Meetings
END:VEVENT
BEGIN:VEVENT
DTSTART;TZID=America/Chicago:20250701T175700
DTEND;TZID=America/Chicago:20250701T200000
DTSTAMP:20260423T130435
CREATED:20250415T171825Z
LAST-MODIFIED:20250717T150003Z
UID:33851-1751392620-1751400000@pass-christian.com
SUMMARY:BOA 07/01/2025
DESCRIPTION:
URL:https://pass-christian.com/event/boa-07-10-2025/
LOCATION:Pass Christian City Hall\, 200 West Scenic Drive\, Pass Christian\, MS\, 39571\, United States
CATEGORIES:Board and Commission Meetings,Meetings
END:VEVENT
BEGIN:VEVENT
DTSTART;TZID=America/Chicago:20250617T175700
DTEND;TZID=America/Chicago:20250617T200000
DTSTAMP:20260423T130435
CREATED:20250415T171824Z
LAST-MODIFIED:20250702T145714Z
UID:33850-1750183020-1750190400@pass-christian.com
SUMMARY:BOA 06/17/2025
DESCRIPTION:
URL:https://pass-christian.com/event/boa-06-17-2025/
LOCATION:Pass Christian City Hall\, 200 West Scenic Drive\, Pass Christian\, MS\, 39571\, United States
CATEGORIES:Board and Commission Meetings,Meetings
END:VEVENT
BEGIN:VEVENT
DTSTART;TZID=America/Chicago:20250604T175700
DTEND;TZID=America/Chicago:20250604T200000
DTSTAMP:20260423T130435
CREATED:20250415T171824Z
LAST-MODIFIED:20250619T193142Z
UID:33849-1749059820-1749067200@pass-christian.com
SUMMARY:BOA 06/04/2025
DESCRIPTION:
URL:https://pass-christian.com/event/boa-06-04-2025/
LOCATION:Pass Christian City Hall\, 200 West Scenic Drive\, Pass Christian\, MS\, 39571\, United States
CATEGORIES:Board and Commission Meetings,Meetings
END:VEVENT
BEGIN:VEVENT
DTSTART;TZID=America/Chicago:20250520T175700
DTEND;TZID=America/Chicago:20250520T200000
DTSTAMP:20260423T130435
CREATED:20250415T171822Z
LAST-MODIFIED:20250605T142852Z
UID:33848-1747763820-1747771200@pass-christian.com
SUMMARY:BOA 05/20/2025
DESCRIPTION:
URL:https://pass-christian.com/event/boa-05-20-2025/
LOCATION:Pass Christian City Hall\, 200 West Scenic Drive\, Pass Christian\, MS\, 39571\, United States
CATEGORIES:Board and Commission Meetings,Meetings
END:VEVENT
BEGIN:VEVENT
DTSTART;TZID=America/Chicago:20250514T180000
DTEND;TZID=America/Chicago:20250514T190000
DTSTAMP:20260423T130435
CREATED:20250514T223112Z
LAST-MODIFIED:20250514T223112Z
UID:34289-1747245600-1747249200@pass-christian.com
SUMMARY:Historical Commission Meeting
DESCRIPTION:
URL:https://pass-christian.com/event/historical-commission-meeting/
LOCATION:Pass Christian City Hall\, 200 West Scenic Drive\, Pass Christian\, MS\, 39571\, United States
CATEGORIES:Board and Commission Meetings,Meetings
END:VEVENT
BEGIN:VEVENT
DTSTART;TZID=America/Chicago:20250506T080000
DTEND;TZID=America/Chicago:20250506T170000
DTSTAMP:20260423T130435
CREATED:20250508T152129Z
LAST-MODIFIED:20250521T190121Z
UID:34136-1746518400-1746550800@pass-christian.com
SUMMARY:BOA 5 6 2025 Agenda
DESCRIPTION:
URL:https://pass-christian.com/event/boa-5-6-2025-agenda/
LOCATION:MS
CATEGORIES:Board and Commission Meetings,Meetings
END:VEVENT
BEGIN:VEVENT
DTSTART;TZID=America/Chicago:20250429T080000
DTEND;TZID=America/Chicago:20250429T170000
DTSTAMP:20260423T130435
CREATED:20250429T163049Z
LAST-MODIFIED:20250730T153432Z
UID:34103-1745913600-1745946000@pass-christian.com
SUMMARY:Planning Commission Meeting 4:00 p.m.
DESCRIPTION:
URL:https://pass-christian.com/event/planning-commission-meeting-400-p-m/
LOCATION:MS
CATEGORIES:Board and Commission Meetings,Meetings
END:VEVENT
BEGIN:VEVENT
DTSTART;TZID=America/Chicago:20250415T180000
DTEND;TZID=America/Chicago:20250415T180000
DTSTAMP:20260423T130435
CREATED:20250414T212504Z
LAST-MODIFIED:20250508T212602Z
UID:33841-1744740000-1744740000@pass-christian.com
SUMMARY:BOA 4/15/2025
DESCRIPTION:
URL:https://pass-christian.com/event/boa-4-15-2025/
LOCATION:Pass Christian City Hall\, 200 West Scenic Drive\, Pass Christian\, MS\, 39571\, United States
CATEGORIES:Board and Commission Meetings,Meetings
END:VEVENT
BEGIN:VEVENT
DTSTART;TZID=America/Chicago:20250409T180000
DTEND;TZID=America/Chicago:20250409T180000
DTSTAMP:20260423T130435
CREATED:20250409T225239Z
LAST-MODIFIED:20250409T225239Z
UID:33799-1744221600-1744221600@pass-christian.com
SUMMARY:Historical Commission Meeting 4.9.2025
DESCRIPTION:
URL:https://pass-christian.com/event/historical-commission-meeting-4-9-2025/
LOCATION:Pass Christian City Hall\, 200 West Scenic Drive\, Pass Christian\, MS\, 39571\, United States
CATEGORIES:Board and Commission Meetings,Meetings
END:VEVENT
BEGIN:VEVENT
DTSTART;TZID=America/Chicago:20250402T180000
DTEND;TZID=America/Chicago:20250402T210000
DTSTAMP:20260423T130435
CREATED:20250327T224718Z
LAST-MODIFIED:20250508T212300Z
UID:33437-1743616800-1743627600@pass-christian.com
SUMMARY:MEETING OF MAYOR AND ALDERPERSONS
DESCRIPTION:
URL:https://pass-christian.com/event/meeting-of-mayor-and-alderpersons-28/
LOCATION:Pass Christian City Hall\, 200 West Scenic Drive\, Pass Christian\, MS\, 39571\, United States
CATEGORIES:Board and Commission Meetings,Meetings
END:VEVENT
BEGIN:VEVENT
DTSTART;TZID=America/Chicago:20250318T060000
DTEND;TZID=America/Chicago:20250318T203000
DTSTAMP:20260423T130435
CREATED:20250313T223141Z
LAST-MODIFIED:20250508T212022Z
UID:33082-1742277600-1742329800@pass-christian.com
SUMMARY:MAYOR AND BOARD OF ALDERPERSONS MEETING
DESCRIPTION:
URL:https://pass-christian.com/event/mayor-and-board-of-alderpersons-meeting-3/
LOCATION:Pass Christian City Hall\, 200 West Scenic Drive\, Pass Christian\, MS\, 39571\, United States
CATEGORIES:Board and Commission Meetings,Meetings
END:VEVENT
BEGIN:VEVENT
DTSTART;TZID=America/Chicago:20250218T180000
DTEND;TZID=America/Chicago:20250218T210000
DTSTAMP:20260423T130435
CREATED:20250218T152541Z
LAST-MODIFIED:20250415T173330Z
UID:32357-1739901600-1739912400@pass-christian.com
SUMMARY:REGULAR MEETING OF MAYOR AND BOARD OF ALDERPERSONS
DESCRIPTION:
URL:https://pass-christian.com/event/regular-meeting-of-mayor-and-board-of-alderpersons/
LOCATION:Pass Christian City Hall\, 200 West Scenic Drive\, Pass Christian\, MS\, 39571\, United States
CATEGORIES:Board and Commission Meetings,Meetings
END:VEVENT
BEGIN:VEVENT
DTSTART;TZID=America/Chicago:20250122T153000
DTEND;TZID=America/Chicago:20250122T170000
DTSTAMP:20260423T130435
CREATED:20250122T191403Z
LAST-MODIFIED:20250220T170756Z
UID:30817-1737559800-1737565200@pass-christian.com
SUMMARY:MAYOR AND BOARD OF ALDERPERSONS MEETING 1/22/2025 ( RESCHEDULED FROM 1/21/2025)
DESCRIPTION:
URL:https://pass-christian.com/event/mayor-and-board-of-alderpersons-meeting-1-22-2025-rescheduled-from-1-21-2025/
LOCATION:Pass Christian City Hall\, 200 West Scenic Drive\, Pass Christian\, MS\, 39571\, United States
CATEGORIES:Board and Commission Meetings,Meetings
END:VEVENT
BEGIN:VEVENT
DTSTART;TZID=America/Chicago:20250108T180000
DTEND;TZID=America/Chicago:20250108T190000
DTSTAMP:20260423T130435
CREATED:20250108T230943Z
LAST-MODIFIED:20250108T231017Z
UID:30086-1736359200-1736362800@pass-christian.com
SUMMARY:HISTORIC PRESERVATION COMMISSION MEETING – WEDNESDAY\, January 8\, 2025
DESCRIPTION:
URL:https://pass-christian.com/event/historic-preservation-commission-meeting-wednesday-january-8-2025/
LOCATION:Pass Christian City Hall\, 200 West Scenic Drive\, Pass Christian\, MS\, 39571\, United States
CATEGORIES:Board and Commission Meetings
END:VEVENT
BEGIN:VEVENT
DTSTART;TZID=America/Chicago:20250107T180000
DTEND;TZID=America/Chicago:20250107T203000
DTSTAMP:20260423T130435
CREATED:20250103T192411Z
LAST-MODIFIED:20250220T170631Z
UID:29742-1736272800-1736281800@pass-christian.com
SUMMARY:MEETING OF MAYOR AND ALDERPERSONS
DESCRIPTION:
URL:https://pass-christian.com/event/meeting-of-mayor-and-alderpersons-26/
LOCATION:Pass Christian City Hall\, 200 West Scenic Drive\, Pass Christian\, MS\, 39571\, United States
CATEGORIES:Board and Commission Meetings
END:VEVENT
BEGIN:VEVENT
DTSTART;TZID=America/Chicago:20241211T180000
DTEND;TZID=America/Chicago:20241211T220000
DTSTAMP:20260423T130435
CREATED:20241205T190744Z
LAST-MODIFIED:20241206T172317Z
UID:28468-1733940000-1733954400@pass-christian.com
SUMMARY:HISTORIC PRESERVATION COMMISSION MEETING - WEDNESDAY\, DECEMBER 11TH\, 2024 - 6 PM
DESCRIPTION:THERE WILL BE A HISTORIC PRESERVATION COMMISSION MEETING ON WEDNESDAY\, DECEMBER 11TH\, 2024\, AT 6 PM LOCATED AT THE MUNICIPAL COURTHOUSE FOR THE CONSIDERATION OF THE BELOW AGENDA ITEM:\n\nConsider a review of the decision of the Code Official and Mayor and Board of Aldermen concerning condemnation and involuntary order for demolition of the Fill-Up with Billups building situated at 110 W. Scenic Drive.\n\n  \nIf you have any questions or concerns\, please contact: \n  \nJennifer Rivera \nPlanning Technician \n(228)452-3316 \n200 West Scenic Drive \nPass Christian\, MS 39571
URL:https://pass-christian.com/event/historic-preservation-commission-meeting-december-11th-2024-6-pm/
LOCATION:Pass Christian City Hall\, 200 West Scenic Drive\, Pass Christian\, MS\, 39571\, United States
CATEGORIES:Board and Commission Meetings,Events,Meetings
ORGANIZER;CN="City of Pass Christian":MAILTO:sputnam@pass-christian.com
END:VEVENT
BEGIN:VEVENT
DTSTART;TZID=America/Chicago:20241209T160000
DTEND;TZID=America/Chicago:20241209T190000
DTSTAMP:20260423T130435
CREATED:20241204T231536Z
LAST-MODIFIED:20241205T192044Z
UID:28464-1733760000-1733770800@pass-christian.com
SUMMARY:PLANNING AND ZONING COMMISSION MEETING – MONDAY\, DECEMBER 9TH\, 2024 – 4PM
DESCRIPTION:THERE WILL BE A PLANNING AND ZONING COMMISSION MEETING ON MONDAY\, DECEMBER 9TH\, 2024\, AT 4 PM AT THE MUNICIPAL COURTROOM FOR THE BELOW AGENDA ITEMS: \nNew Business \n1. Consider approving the application of 0 Everett Street/Jessica Ochsner (Tax Parcel No. 0313L-01-048.000\, Lot 4\, Block 51\, requesting a variance to construct an outbuilding on a parcel without a primary structure in the City of Pass Christian\, MS\, a T4L Transect Zone. \n  \n2. Consider approving the application for the corner of Cedar Avenue and Bayview Street/WPS Development\, LLC (Tax Parcel Nos.  0313E-01-019.000\, 0313E-01-021.000\, 0213H-02-001.001) requesting to rezone parcels that contain both Transect Zones of T4+ and T5C to solely the T5C Transect Zone. \n  \n3. Consider approving the application of 513 E. Scenic Drive/Chris & Ashley Bass (Tax Parcel No. 0413E-01-002.000) requesting a variance to exceed the maximum size of an outbuilding in the City of Pass Christian\, MS\, a T3E Transect Zone. \n  \nOther Business/Public Comment \n1. Consider reviewing and approving the 2025 Planning Commission Meeting and Application Deadline Schedule. \n  \nIf you have any questions or concerns\, please contact: \n  \nJennifer Rivera – Planning Technician \n(228)452-3316 \n200 West Scenic Drive \nPass Christian\, MS 39571 \n 
URL:https://pass-christian.com/event/planning-and-zoning-commission-board-meeting-monday-december-9th-2024-4pm/
LOCATION:Pass Christian City Hall\, 200 West Scenic Drive\, Pass Christian\, MS\, 39571\, United States
CATEGORIES:Board and Commission Meetings,Events,Meetings
ORGANIZER;CN="City of Pass Christian":MAILTO:sputnam@pass-christian.com
END:VEVENT
BEGIN:VEVENT
DTSTART;TZID=America/Chicago:20241203T180000
DTEND;TZID=America/Chicago:20241203T190000
DTSTAMP:20260423T130435
CREATED:20241127T173859Z
LAST-MODIFIED:20250220T170416Z
UID:28440-1733248800-1733252400@pass-christian.com
SUMMARY:MEETING OF MAYOR AND ALDERPERSONS
DESCRIPTION:
URL:https://pass-christian.com/event/meeting-of-mayor-and-alderpersons-25/
LOCATION:Pass Christian City Hall\, 200 West Scenic Drive\, Pass Christian\, MS\, 39571\, United States
CATEGORIES:Board and Commission Meetings,Meetings
END:VEVENT
BEGIN:VEVENT
DTSTART;TZID=America/Chicago:20241121T140000
DTEND;TZID=America/Chicago:20241121T160000
DTSTAMP:20260423T130435
CREATED:20241116T001323Z
LAST-MODIFIED:20241116T001323Z
UID:28042-1732197600-1732204800@pass-christian.com
SUMMARY:TREE BOARD MEETING - THURSDAY\, NOVEMBER 21ST\, 2024 - 2PM
DESCRIPTION:THERE WILL BE A TREE BOARD MEETING ON THURSDAY\, NOVEMBER 21\, 2024\, AT 2PM IN THE CODE OFFICE CONFERENCE ROOM FOR THE BELOW ITEM: \n1. Consider the Tree Application approval of Michael Christovich for the removal of (1) Magnolia Tree that is greater than by right removal located in front yard of 829 East Scenic Drive. The tree is dead and limbs have started to fall off causing a liability on the property and East Scenic Drive. \n  \n2. Consider the Tree Application approval of Jonathan Allen for the removal of several Pine Trees that are greater than by right removal located across the entire lot at 000 Henderson Avenue\, Tax Parcel # 0312K-03-026.006. The applicant is pending a lot clearing permit for a new proposed residence. \n3. Consider the Tree Application approval of 162 Holiday LLC for the removal of (1) Magnolia Tree that is greater than by right removal in the front yard located at 162 Holiday Avenue. The tree is causing a hardship for risk/liability to the home\, driveway and a blocking the line of sight. \n4. Consider the Tree Application approval of Jerry Kelly for the removal of (12) Pine Trees that are greater than by right removal located across the entire lot at 0 Henderson Avenue\, Tax Parcel # 0312N-02-023.000. The trees are marked with orange ribbon. The applicant is pending a lot clearing permit for new proposed residence. \n5. Consider the Tree Application approval of Tim & Patti Davis for the removal of (2) Live Oak Trees greater than by right removal located in the backyard of 124 Fleitas Avenue. The Trees are marked with orange ribbon. The trees are creating a hardship for limiting and compromising the homeowner’s property for structural growth. \n6. Consider the Tree Application approval of Trinity Park Subdivision for the removal of (30) trees ranging in difference species that are greater than by right removal located across the lot at the corner of Henderson & Highway 90. Tax Parcel #0313G-05-009.000. \n  \nIf you have any questions or concerns\, please contact: \nJennifer Rivera – Planning Technician \n(228)452-3316 \n200 West Scenic Drive \nPass Christian\, MS 39571
URL:https://pass-christian.com/event/tree-board-meeting-thursday-november-21st-2024-2pm/
LOCATION:Pass Christian City Hall\, 200 West Scenic Drive\, Pass Christian\, MS\, 39571\, United States
CATEGORIES:Board and Commission Meetings,Events,Meetings
END:VEVENT
BEGIN:VEVENT
DTSTART;TZID=America/Chicago:20241119T180000
DTEND;TZID=America/Chicago:20241119T200000
DTSTAMP:20260423T130435
CREATED:20241118T150622Z
LAST-MODIFIED:20250113T185943Z
UID:28070-1732039200-1732046400@pass-christian.com
SUMMARY:MEETING OF MAYOR AND BOARD OF ALDERPERSONS
DESCRIPTION:
URL:https://pass-christian.com/event/meeting-of-mayor-and-board-of-alderpersons-4/
LOCATION:Pass Christian City Hall\, 200 West Scenic Drive\, Pass Christian\, MS\, 39571\, United States
CATEGORIES:Board and Commission Meetings
END:VEVENT
BEGIN:VEVENT
DTSTART;TZID=America/Chicago:20241029T155800
DTEND;TZID=America/Chicago:20241029T193000
DTSTAMP:20260423T130435
CREATED:20241023T172800Z
LAST-MODIFIED:20241208T214430Z
UID:27360-1730217480-1730230200@pass-christian.com
SUMMARY:PLANNING AND ZONING COMMISSION MEETING
DESCRIPTION:
URL:https://pass-christian.com/event/planning-commission-meeting-12/
LOCATION:Pass Christian City Hall\, 200 West Scenic Drive\, Pass Christian\, MS\, 39571\, United States
CATEGORIES:Board and Commission Meetings,Events,Meetings
END:VEVENT
BEGIN:VEVENT
DTSTART;TZID=America/Chicago:20241009T180000
DTEND;TZID=America/Chicago:20241009T190000
DTSTAMP:20260423T130435
CREATED:20241007T164944Z
LAST-MODIFIED:20241007T164944Z
UID:26680-1728496800-1728500400@pass-christian.com
SUMMARY:HISTORIC PRESERVATION COMMISSION MEETING
DESCRIPTION:
URL:https://pass-christian.com/event/historic-preservation-commission-meeting-6/
LOCATION:Pass Christian City Hall\, 200 West Scenic Drive\, Pass Christian\, MS\, 39571\, United States
CATEGORIES:Board and Commission Meetings,Events,Meetings
END:VEVENT
BEGIN:VEVENT
DTSTART;TZID=America/Chicago:20241003T140000
DTEND;TZID=America/Chicago:20241003T160000
DTSTAMP:20260423T130435
CREATED:20241208T221447Z
LAST-MODIFIED:20241208T221447Z
UID:28568-1727964000-1727971200@pass-christian.com
SUMMARY:TREE BOARD MEETING
DESCRIPTION:
URL:https://pass-christian.com/event/tree-board-meeting-7/
LOCATION:Pass Christian City Hall\, 200 West Scenic Drive\, Pass Christian\, MS\, 39571\, United States
CATEGORIES:Board and Commission Meetings
END:VEVENT
BEGIN:VEVENT
DTSTART;TZID=America/Chicago:20240924T155800
DTEND;TZID=America/Chicago:20240924T190000
DTSTAMP:20260423T130435
CREATED:20240923T132330Z
LAST-MODIFIED:20241208T214355Z
UID:26143-1727193480-1727204400@pass-christian.com
SUMMARY:PLANNING & ZONING COMMISSION MEETING - SEPTEMBER 24\, 2024 - 4PM
DESCRIPTION:THERE WILL BE A PLANNING & ZONING COMMISSION MEETING ON TUESDAY\, SEPTEMBER 24\, 2024\, AT \n4PM IN THE COURTHOUSE FOR THE BELOW AGENDA ITEMS: \n\nNew Business\n\nConsider a courtesy review of a Re-Subdivision for creating 3 or more lots requested by applicant Heather Calder. See attached survey and property information. (Parcel #0412I-01-002.000) Espy Avenue\, located in a T3R Transect Zone.\n\n\n\n\nOther Business/Public Comment\n\nConsider discussing Sector G-3 for future land use. Attached is research from Development Code 2.0 as no reference of Sector G-3 is mentioned in Development Code 3.0. Jennifer Rivera will conduct a short presentation with her findings for Planning Commissioners.
URL:https://pass-christian.com/event/planning-zoning-commission-board-meeting-2/
LOCATION:MS
CATEGORIES:Board and Commission Meetings,Events,Meetings
ORGANIZER;CN="City of Pass Christian":MAILTO:sputnam@pass-christian.com
END:VEVENT
BEGIN:VEVENT
DTSTART;TZID=America/Chicago:20240827T160000
DTEND;TZID=America/Chicago:20240827T190000
DTSTAMP:20260423T130435
CREATED:20240825T210945Z
LAST-MODIFIED:20241208T214609Z
UID:25005-1724774400-1724785200@pass-christian.com
SUMMARY:PLANNING AND ZONING COMMISSION MEETING
DESCRIPTION:
URL:https://pass-christian.com/event/planning-and-zoning-commission-board-meeting-4/
LOCATION:Pass Christian City Hall\, 200 West Scenic Drive\, Pass Christian\, MS\, 39571\, United States
CATEGORIES:Board and Commission Meetings,Events
END:VEVENT
BEGIN:VEVENT
DTSTART;TZID=America/Chicago:20240821T180000
DTEND;TZID=America/Chicago:20240821T200000
DTSTAMP:20260423T130435
CREATED:20240821T154216Z
LAST-MODIFIED:20241208T205304Z
UID:24755-1724263200-1724270400@pass-christian.com
SUMMARY:HISTORIC PRESERVATION COMMISSION MEETING
DESCRIPTION:
URL:https://pass-christian.com/event/historic-preservation-commission-meeting-5/
LOCATION:Pass Christian City Hall\, 200 West Scenic Drive\, Pass Christian\, MS\, 39571\, United States
CATEGORIES:Board and Commission Meetings,Events,Meetings
END:VEVENT
END:VCALENDAR