BEGIN:VCALENDAR
VERSION:2.0
PRODID:-//City of Pass Christian - ECPv6.15.20//NONSGML v1.0//EN
CALSCALE:GREGORIAN
METHOD:PUBLISH
X-ORIGINAL-URL:https://pass-christian.com
X-WR-CALDESC:Events for City of Pass Christian
REFRESH-INTERVAL;VALUE=DURATION:PT1H
X-Robots-Tag:noindex
X-PUBLISHED-TTL:PT1H
BEGIN:VTIMEZONE
TZID:America/Chicago
BEGIN:DAYLIGHT
TZOFFSETFROM:-0600
TZOFFSETTO:-0500
TZNAME:CDT
DTSTART:20230312T080000
END:DAYLIGHT
BEGIN:STANDARD
TZOFFSETFROM:-0500
TZOFFSETTO:-0600
TZNAME:CST
DTSTART:20231105T070000
END:STANDARD
BEGIN:DAYLIGHT
TZOFFSETFROM:-0600
TZOFFSETTO:-0500
TZNAME:CDT
DTSTART:20240310T080000
END:DAYLIGHT
BEGIN:STANDARD
TZOFFSETFROM:-0500
TZOFFSETTO:-0600
TZNAME:CST
DTSTART:20241103T070000
END:STANDARD
BEGIN:DAYLIGHT
TZOFFSETFROM:-0600
TZOFFSETTO:-0500
TZNAME:CDT
DTSTART:20250309T080000
END:DAYLIGHT
BEGIN:STANDARD
TZOFFSETFROM:-0500
TZOFFSETTO:-0600
TZNAME:CST
DTSTART:20251102T070000
END:STANDARD
END:VTIMEZONE
BEGIN:VEVENT
DTSTART;TZID=America/Chicago:20241029T155800
DTEND;TZID=America/Chicago:20241029T193000
DTSTAMP:20260424T175826
CREATED:20241023T172800Z
LAST-MODIFIED:20241208T214430Z
UID:27360-1730217480-1730230200@pass-christian.com
SUMMARY:PLANNING AND ZONING COMMISSION MEETING
DESCRIPTION:
URL:https://pass-christian.com/event/planning-commission-meeting-12/
LOCATION:Pass Christian City Hall\, 200 West Scenic Drive\, Pass Christian\, MS\, 39571\, United States
CATEGORIES:Board and Commission Meetings,Events,Meetings
END:VEVENT
BEGIN:VEVENT
DTSTART;TZID=America/Chicago:20241009T180000
DTEND;TZID=America/Chicago:20241009T190000
DTSTAMP:20260424T175826
CREATED:20241007T164944Z
LAST-MODIFIED:20241007T164944Z
UID:26680-1728496800-1728500400@pass-christian.com
SUMMARY:HISTORIC PRESERVATION COMMISSION MEETING
DESCRIPTION:
URL:https://pass-christian.com/event/historic-preservation-commission-meeting-6/
LOCATION:Pass Christian City Hall\, 200 West Scenic Drive\, Pass Christian\, MS\, 39571\, United States
CATEGORIES:Board and Commission Meetings,Events,Meetings
END:VEVENT
BEGIN:VEVENT
DTSTART;TZID=America/Chicago:20241003T140000
DTEND;TZID=America/Chicago:20241003T160000
DTSTAMP:20260424T175826
CREATED:20241208T221447Z
LAST-MODIFIED:20241208T221447Z
UID:28568-1727964000-1727971200@pass-christian.com
SUMMARY:TREE BOARD MEETING
DESCRIPTION:
URL:https://pass-christian.com/event/tree-board-meeting-7/
LOCATION:Pass Christian City Hall\, 200 West Scenic Drive\, Pass Christian\, MS\, 39571\, United States
CATEGORIES:Board and Commission Meetings
END:VEVENT
BEGIN:VEVENT
DTSTART;TZID=America/Chicago:20240924T155800
DTEND;TZID=America/Chicago:20240924T190000
DTSTAMP:20260424T175826
CREATED:20240923T132330Z
LAST-MODIFIED:20241208T214355Z
UID:26143-1727193480-1727204400@pass-christian.com
SUMMARY:PLANNING & ZONING COMMISSION MEETING - SEPTEMBER 24\, 2024 - 4PM
DESCRIPTION:THERE WILL BE A PLANNING & ZONING COMMISSION MEETING ON TUESDAY\, SEPTEMBER 24\, 2024\, AT \n4PM IN THE COURTHOUSE FOR THE BELOW AGENDA ITEMS: \n\nNew Business\n\nConsider a courtesy review of a Re-Subdivision for creating 3 or more lots requested by applicant Heather Calder. See attached survey and property information. (Parcel #0412I-01-002.000) Espy Avenue\, located in a T3R Transect Zone.\n\n\n\n\nOther Business/Public Comment\n\nConsider discussing Sector G-3 for future land use. Attached is research from Development Code 2.0 as no reference of Sector G-3 is mentioned in Development Code 3.0. Jennifer Rivera will conduct a short presentation with her findings for Planning Commissioners.
URL:https://pass-christian.com/event/planning-zoning-commission-board-meeting-2/
LOCATION:MS
CATEGORIES:Board and Commission Meetings,Events,Meetings
ORGANIZER;CN="City of Pass Christian":MAILTO:sputnam@pass-christian.com
END:VEVENT
BEGIN:VEVENT
DTSTART;TZID=America/Chicago:20240827T160000
DTEND;TZID=America/Chicago:20240827T190000
DTSTAMP:20260424T175826
CREATED:20240825T210945Z
LAST-MODIFIED:20241208T214609Z
UID:25005-1724774400-1724785200@pass-christian.com
SUMMARY:PLANNING AND ZONING COMMISSION MEETING
DESCRIPTION:
URL:https://pass-christian.com/event/planning-and-zoning-commission-board-meeting-4/
LOCATION:Pass Christian City Hall\, 200 West Scenic Drive\, Pass Christian\, MS\, 39571\, United States
CATEGORIES:Board and Commission Meetings,Events
END:VEVENT
BEGIN:VEVENT
DTSTART;TZID=America/Chicago:20240821T180000
DTEND;TZID=America/Chicago:20240821T200000
DTSTAMP:20260424T175826
CREATED:20240821T154216Z
LAST-MODIFIED:20241208T205304Z
UID:24755-1724263200-1724270400@pass-christian.com
SUMMARY:HISTORIC PRESERVATION COMMISSION MEETING
DESCRIPTION:
URL:https://pass-christian.com/event/historic-preservation-commission-meeting-5/
LOCATION:Pass Christian City Hall\, 200 West Scenic Drive\, Pass Christian\, MS\, 39571\, United States
CATEGORIES:Board and Commission Meetings,Events,Meetings
END:VEVENT
BEGIN:VEVENT
DTSTART;TZID=America/Chicago:20240815T140000
DTEND;TZID=America/Chicago:20240815T150000
DTSTAMP:20260424T175826
CREATED:20240813T125909Z
LAST-MODIFIED:20241208T220412Z
UID:24686-1723730400-1723734000@pass-christian.com
SUMMARY:TREE BOARD MEETING - AUGUST 15\, 2024 - 2PM
DESCRIPTION:
URL:https://pass-christian.com/event/tree-board-meeting-6/
LOCATION:Pass Christian City Hall\, 200 West Scenic Drive\, Pass Christian\, MS\, 39571\, United States
CATEGORIES:Board and Commission Meetings,Events,Meetings
END:VEVENT
BEGIN:VEVENT
DTSTART;TZID=America/Chicago:20240806T180000
DTEND;TZID=America/Chicago:20240806T200000
DTSTAMP:20260424T175826
CREATED:20240802T193024Z
LAST-MODIFIED:20250113T191800Z
UID:24442-1722967200-1722974400@pass-christian.com
SUMMARY:MEETING OF MAYOR OF AND ALDERPERSONS
DESCRIPTION:
URL:https://pass-christian.com/event/meeting-of-mayor-of-and-alderpersons/
LOCATION:Pass Christian City Hall\, 200 West Scenic Drive\, Pass Christian\, MS\, 39571\, United States
CATEGORIES:Board and Commission Meetings
END:VEVENT
BEGIN:VEVENT
DTSTART;TZID=America/Chicago:20240730T160000
DTEND;TZID=America/Chicago:20240730T200000
DTSTAMP:20260424T175826
CREATED:20240724T233140Z
LAST-MODIFIED:20241208T214701Z
UID:24390-1722355200-1722369600@pass-christian.com
SUMMARY:PLANNING & ZONING COMMISSION MEETING
DESCRIPTION:
URL:https://pass-christian.com/event/planning-zoning-commission-board-meeting/
LOCATION:Pass Christian City Hall\, 200 West Scenic Drive\, Pass Christian\, MS\, 39571\, United States
CATEGORIES:Board and Commission Meetings,Events,Meetings
END:VEVENT
BEGIN:VEVENT
DTSTART;TZID=America/Chicago:20240718T140000
DTEND;TZID=America/Chicago:20240718T153000
DTSTAMP:20260424T175826
CREATED:20240712T161240Z
LAST-MODIFIED:20241208T220457Z
UID:24060-1721311200-1721316600@pass-christian.com
SUMMARY:TREE BOARD MEETING
DESCRIPTION:THERE WILL BE A TREE BOARD ON THURSDAY\, JULY  18TH\, 2024\, AT 2PM IN THE CODE OFFICE CONFERENCE ROOM FOR THE CONSIDERATION OF THE BELOW AGENDA ITEMS:\n\nConsider Tree Application approval for Denise Staines for the removal of (1) Live Oak Tree in the back of the property that is greater than by-right removal located at 148 Youngswood Loop.\nConsider Tree Application approval for Todd Stogner for the removal of (2) Gum Trees in the front of the property that is greater than by-right removal located at 130 Shadowlawn Avenue.\n\nIf you have any questions or concerns\, please contact: \nJennifer Rivera – Planning Technician \n(228)452-3316 \n200 West Scenic Drive \nPass Christian\, MS 39571
URL:https://pass-christian.com/event/tree-board-meeting-5/
LOCATION:Pass Christian City Hall\, 200 West Scenic Drive\, Pass Christian\, MS\, 39571\, United States
CATEGORIES:Board and Commission Meetings
END:VEVENT
BEGIN:VEVENT
DTSTART;TZID=America/Chicago:20240716T180000
DTEND;TZID=America/Chicago:20240716T203000
DTSTAMP:20260424T175826
CREATED:20240715T131627Z
LAST-MODIFIED:20250113T191843Z
UID:24153-1721152800-1721161800@pass-christian.com
SUMMARY:MEETING OF MAYOR AND ALDERPERSONS
DESCRIPTION:
URL:https://pass-christian.com/event/meeting-of-mayor-and-alderpersons-22/
LOCATION:Pass Christian City Hall\, 200 West Scenic Drive\, Pass Christian\, MS\, 39571\, United States
CATEGORIES:Board and Commission Meetings
END:VEVENT
BEGIN:VEVENT
DTSTART;TZID=America/Chicago:20240710T175800
DTEND;TZID=America/Chicago:20240710T220000
DTSTAMP:20260424T175826
CREATED:20240703T134828Z
LAST-MODIFIED:20241208T205414Z
UID:23942-1720634280-1720648800@pass-christian.com
SUMMARY:HISTORIC PRESERVATION COMMISSION MEETING
DESCRIPTION:
URL:https://pass-christian.com/event/historical-preservation-commission-meeting/
LOCATION:Pass Christian City Hall\, 200 West Scenic Drive\, Pass Christian\, MS\, 39571\, United States
CATEGORIES:Board and Commission Meetings
END:VEVENT
BEGIN:VEVENT
DTSTART;TZID=America/Chicago:20240702T180000
DTEND;TZID=America/Chicago:20240702T203000
DTSTAMP:20260424T175826
CREATED:20240701T130750Z
LAST-MODIFIED:20250113T192024Z
UID:23895-1719943200-1719952200@pass-christian.com
SUMMARY:MEETING OF MAYOR AND ALDERPERSONS
DESCRIPTION:
URL:https://pass-christian.com/event/meeting-of-mayor-and-alderpersons-21/
LOCATION:Pass Christian City Hall\, 200 West Scenic Drive\, Pass Christian\, MS\, 39571\, United States
CATEGORIES:Board and Commission Meetings
END:VEVENT
BEGIN:VEVENT
DTSTART;TZID=America/Chicago:20240627T170000
DTEND;TZID=America/Chicago:20240627T190000
DTSTAMP:20260424T175826
CREATED:20240627T184427Z
LAST-MODIFIED:20240627T185143Z
UID:23863-1719507600-1719514800@pass-christian.com
SUMMARY:SPECIAL MEETING OF MAYOR AND ALDERPERSONS
DESCRIPTION:
URL:https://pass-christian.com/event/special-meeting-of-mayor-and-alderpersons-2/
LOCATION:Pass Christian City Hall\, 200 West Scenic Drive\, Pass Christian\, MS\, 39571\, United States
CATEGORIES:Board and Commission Meetings
END:VEVENT
BEGIN:VEVENT
DTSTART;TZID=America/Chicago:20240620T140000
DTEND;TZID=America/Chicago:20240620T153000
DTSTAMP:20260424T175826
CREATED:20240612T132821Z
LAST-MODIFIED:20241208T220610Z
UID:23481-1718892000-1718897400@pass-christian.com
SUMMARY:TREE BOARD MEETING
DESCRIPTION:
URL:https://pass-christian.com/event/tree-board-meeting-4/
LOCATION:Pass Christian City Hall\, 200 West Scenic Drive\, Pass Christian\, MS\, 39571\, United States
CATEGORIES:Board and Commission Meetings
END:VEVENT
BEGIN:VEVENT
DTSTART;TZID=America/Chicago:20240618T180000
DTEND;TZID=America/Chicago:20240618T200000
DTSTAMP:20260424T175826
CREATED:20240614T152621Z
LAST-MODIFIED:20250113T192111Z
UID:23512-1718733600-1718740800@pass-christian.com
SUMMARY:MEETING OF MAYOR AND ALDERPERSONS
DESCRIPTION:
URL:https://pass-christian.com/event/meeting-of-mayor-and-alderpersons-20/
LOCATION:Pass Christian City Hall\, 200 West Scenic Drive\, Pass Christian\, MS\, 39571\, United States
CATEGORIES:Board and Commission Meetings
END:VEVENT
BEGIN:VEVENT
DTSTART;TZID=America/Chicago:20240617T170000
DTEND;TZID=America/Chicago:20240617T173000
DTSTAMP:20260424T175826
CREATED:20240617T214312Z
LAST-MODIFIED:20240617T220216Z
UID:23626-1718643600-1718645400@pass-christian.com
SUMMARY:CIVIL SERVICE MEETING
DESCRIPTION:
URL:https://pass-christian.com/event/civil-service-meeting-4/
LOCATION:Pass Christian City Hall\, 200 West Scenic Drive\, Pass Christian\, MS\, 39571\, United States
CATEGORIES:Board and Commission Meetings
END:VEVENT
BEGIN:VEVENT
DTSTART;TZID=America/Chicago:20240604T170000
DTEND;TZID=America/Chicago:20240604T200000
DTSTAMP:20260424T175826
CREATED:20240530T213821Z
LAST-MODIFIED:20250113T192206Z
UID:23127-1717520400-1717531200@pass-christian.com
SUMMARY:MEETING OF MAYOR AND ALDERPERSONS
DESCRIPTION:
URL:https://pass-christian.com/event/meeting-of-mayor-and-alderpersons-19/
LOCATION:Pass Christian City Hall\, 200 West Scenic Drive\, Pass Christian\, MS\, 39571\, United States
CATEGORIES:Board and Commission Meetings
END:VEVENT
BEGIN:VEVENT
DTSTART;TZID=America/Chicago:20240528T155700
DTEND;TZID=America/Chicago:20240528T210000
DTSTAMP:20260424T175826
CREATED:20240521T071431Z
LAST-MODIFIED:20241208T214807Z
UID:22783-1716911820-1716930000@pass-christian.com
SUMMARY:PLANNING AND ZONING COMMISSION MEETING
DESCRIPTION:
URL:https://pass-christian.com/event/planning-and-zoning-commission-board-meeting-3/
LOCATION:Pass Christian City Hall\, 200 West Scenic Drive\, Pass Christian\, MS\, 39571\, United States
CATEGORIES:Board and Commission Meetings
END:VEVENT
BEGIN:VEVENT
DTSTART;TZID=America/Chicago:20240523T180000
DTEND;TZID=America/Chicago:20240523T200000
DTSTAMP:20260424T175826
CREATED:20240523T183113Z
LAST-MODIFIED:20240523T183815Z
UID:22878-1716487200-1716494400@pass-christian.com
SUMMARY:SPECIAL MEETING OF MAYOR AND ALDERPERSONS
DESCRIPTION:
URL:https://pass-christian.com/event/special-meeting-of-mayor-and-alderpersons/
LOCATION:Pass Christian City Hall\, 200 West Scenic Drive\, Pass Christian\, MS\, 39571\, United States
CATEGORIES:Board and Commission Meetings
END:VEVENT
BEGIN:VEVENT
DTSTART;TZID=America/Chicago:20240521T180000
DTEND;TZID=America/Chicago:20240521T200000
DTSTAMP:20260424T175826
CREATED:20240520T131220Z
LAST-MODIFIED:20250113T192336Z
UID:22756-1716314400-1716321600@pass-christian.com
SUMMARY:MEETING OF MAYOR AND ALDERPERSONS
DESCRIPTION:
URL:https://pass-christian.com/event/meeting-of-mayor-and-alderpersons-18/
LOCATION:Pass Christian City Hall\, 200 West Scenic Drive\, Pass Christian\, MS\, 39571\, United States
CATEGORIES:Board and Commission Meetings
END:VEVENT
BEGIN:VEVENT
DTSTART;TZID=America/Chicago:20240520T180000
DTEND;TZID=America/Chicago:20240520T220000
DTSTAMP:20260424T175826
CREATED:20240517T201014Z
LAST-MODIFIED:20241208T205202Z
UID:22574-1716228000-1716242400@pass-christian.com
SUMMARY:HISTORIC PRESERVATION COMMISSION - SPECIAL MEETING
DESCRIPTION:
URL:https://pass-christian.com/event/historic-preservation-commission-special-meeting/
LOCATION:Pass Christian City Hall\, 200 West Scenic Drive\, Pass Christian\, MS\, 39571\, United States
CATEGORIES:Board and Commission Meetings
END:VEVENT
BEGIN:VEVENT
DTSTART;TZID=America/Chicago:20240520T170000
DTEND;TZID=America/Chicago:20240520T173000
DTSTAMP:20260424T175826
CREATED:20240122T192516Z
LAST-MODIFIED:20240520T135827Z
UID:19690-1716224400-1716226200@pass-christian.com
SUMMARY:CIVIL SERVICE MEETING
DESCRIPTION:
URL:https://pass-christian.com/event/civil-service-meeting-3/
LOCATION:Pass Christian Municipal Courtroom\, 105 Hiern Avenue\, Pass Christian\, Mississippi\, 39571
CATEGORIES:Board and Commission Meetings
END:VEVENT
BEGIN:VEVENT
DTSTART;TZID=America/Chicago:20240516T140000
DTEND;TZID=America/Chicago:20240516T160000
DTSTAMP:20260424T175826
CREATED:20240516T163853Z
LAST-MODIFIED:20241208T220654Z
UID:22551-1715868000-1715875200@pass-christian.com
SUMMARY:TREE BOARD MEETING
DESCRIPTION:
URL:https://pass-christian.com/event/tree-board-meeting-3/
LOCATION:Pass Christian City Hall\, 200 West Scenic Drive\, Pass Christian\, MS\, 39571\, United States
CATEGORIES:Board and Commission Meetings
END:VEVENT
BEGIN:VEVENT
DTSTART;TZID=America/Chicago:20240509T180000
DTEND;TZID=America/Chicago:20240509T193000
DTSTAMP:20260424T175826
CREATED:20240502T215601Z
LAST-MODIFIED:20241208T205535Z
UID:22231-1715277600-1715283000@pass-christian.com
SUMMARY:HISTORIC PRESERVATION COMMISSION MEETING
DESCRIPTION:
URL:https://pass-christian.com/event/historic-preservation-commission-meeting-4/
LOCATION:Pass Christian City Hall\, 200 West Scenic Drive\, Pass Christian\, MS\, 39571\, United States
CATEGORIES:Board and Commission Meetings
END:VEVENT
BEGIN:VEVENT
DTSTART;TZID=America/Chicago:20240430T160000
DTEND;TZID=America/Chicago:20240430T173000
DTSTAMP:20260424T175826
CREATED:20240421T233206Z
LAST-MODIFIED:20241208T215127Z
UID:22034-1714492800-1714498200@pass-christian.com
SUMMARY:PLANNING AND ZONING COMMISSION MEETING
DESCRIPTION:
URL:https://pass-christian.com/event/planning-and-zoning-commission-board-meeting-2/
LOCATION:Pass Christian City Hall\, 200 West Scenic Drive\, Pass Christian\, MS\, 39571\, United States
CATEGORIES:Board and Commission Meetings
END:VEVENT
BEGIN:VEVENT
DTSTART;TZID=America/Chicago:20240417T180000
DTEND;TZID=America/Chicago:20240417T193000
DTSTAMP:20260424T175826
CREATED:20240415T221246Z
LAST-MODIFIED:20241208T210112Z
UID:21829-1713376800-1713382200@pass-christian.com
SUMMARY:HISTORIC PRESERVATION COMMISSION MEETING
DESCRIPTION:
URL:https://pass-christian.com/event/historic-preservation-commission-meeting-3/
LOCATION:Pass Christian City Hall\, 200 West Scenic Drive\, Pass Christian\, MS\, 39571\, United States
CATEGORIES:Board and Commission Meetings
END:VEVENT
BEGIN:VEVENT
DTSTART;TZID=America/Chicago:20240416T180000
DTEND;TZID=America/Chicago:20240416T200000
DTSTAMP:20260424T175826
CREATED:20240401T181039Z
LAST-MODIFIED:20260108T223900Z
UID:20945-1713290400-1713297600@pass-christian.com
SUMMARY:Meeting of Mayor and Alderpersons
DESCRIPTION:
URL:https://pass-christian.com/event/meeting-of-mayor-and-alderpersons-15/
LOCATION:Pass Christian City Hall\, 200 West Scenic Drive\, Pass Christian\, MS\, 39571\, United States
CATEGORIES:Board and Commission Meetings,Meetings
END:VEVENT
BEGIN:VEVENT
DTSTART;TZID=America/Chicago:20240326T160000
DTEND;TZID=America/Chicago:20240326T170000
DTSTAMP:20260424T175826
CREATED:20240320T023850Z
LAST-MODIFIED:20241208T215030Z
UID:20691-1711468800-1711472400@pass-christian.com
SUMMARY:PLANNING AND ZONING COMMISSION MEETING
DESCRIPTION:
URL:https://pass-christian.com/event/planning-and-zoning-commission-board-meeting/
LOCATION:Pass Christian City Hall\, 200 West Scenic Drive\, Pass Christian\, MS\, 39571\, United States
CATEGORIES:Board and Commission Meetings
END:VEVENT
BEGIN:VEVENT
DTSTART;TZID=America/Chicago:20240307T150000
DTEND;TZID=America/Chicago:20240307T163000
DTSTAMP:20260424T175826
CREATED:20240306T214631Z
LAST-MODIFIED:20241208T220208Z
UID:20598-1709823600-1709829000@pass-christian.com
SUMMARY:TREE BOARD MEETING
DESCRIPTION:
URL:https://pass-christian.com/event/tree-board-meeting-2/
LOCATION:Pass Christian City Hall\, 200 West Scenic Drive\, Pass Christian\, MS\, 39571\, United States
CATEGORIES:Board and Commission Meetings
END:VEVENT
END:VCALENDAR