BEGIN:VCALENDAR
VERSION:2.0
PRODID:-//City of Pass Christian - ECPv6.15.20//NONSGML v1.0//EN
CALSCALE:GREGORIAN
METHOD:PUBLISH
X-WR-CALNAME:City of Pass Christian
X-ORIGINAL-URL:https://pass-christian.com
X-WR-CALDESC:Events for City of Pass Christian
REFRESH-INTERVAL;VALUE=DURATION:PT1H
X-Robots-Tag:noindex
X-PUBLISHED-TTL:PT1H
BEGIN:VTIMEZONE
TZID:America/Chicago
BEGIN:DAYLIGHT
TZOFFSETFROM:-0600
TZOFFSETTO:-0500
TZNAME:CDT
DTSTART:20220313T080000
END:DAYLIGHT
BEGIN:STANDARD
TZOFFSETFROM:-0500
TZOFFSETTO:-0600
TZNAME:CST
DTSTART:20221106T070000
END:STANDARD
BEGIN:DAYLIGHT
TZOFFSETFROM:-0600
TZOFFSETTO:-0500
TZNAME:CDT
DTSTART:20230312T080000
END:DAYLIGHT
BEGIN:STANDARD
TZOFFSETFROM:-0500
TZOFFSETTO:-0600
TZNAME:CST
DTSTART:20231105T070000
END:STANDARD
BEGIN:DAYLIGHT
TZOFFSETFROM:-0600
TZOFFSETTO:-0500
TZNAME:CDT
DTSTART:20240310T080000
END:DAYLIGHT
BEGIN:STANDARD
TZOFFSETFROM:-0500
TZOFFSETTO:-0600
TZNAME:CST
DTSTART:20241103T070000
END:STANDARD
END:VTIMEZONE
BEGIN:VEVENT
DTSTART;TZID=America/Chicago:20230502T055000
DTEND;TZID=America/Chicago:20230502T200000
DTSTAMP:20260421T214557
CREATED:20230428T170813Z
LAST-MODIFIED:20250113T195046Z
UID:15556-1683006600-1683057600@pass-christian.com
SUMMARY:MEETING OF MAYOR & ALDERPERSONS
DESCRIPTION:
URL:https://pass-christian.com/event/meeting-of-mayor-alderpersons/
LOCATION:Pass Christian City Hall\, 200 West Scenic Drive\, Pass Christian\, MS\, 39571\, United States
CATEGORIES:Board and Commission Meetings
END:VEVENT
BEGIN:VEVENT
DTSTART;TZID=America/Chicago:20230506T110000
DTEND;TZID=America/Chicago:20230506T160000
DTSTAMP:20260421T214557
CREATED:20230424T184449Z
LAST-MODIFIED:20230424T184452Z
UID:15460-1683370800-1683388800@pass-christian.com
SUMMARY:Blessing of the Fleet May 6\, 2023 11:00am to 4:00pm
DESCRIPTION:
URL:https://pass-christian.com/event/blessing-of-the-fleet-may-6-2023-1100am-to-400pm/
LOCATION:Pass Christian Harbor\, 115 Market Street\, Pass Christian\, Mississippi\, 39571
CATEGORIES:Events
END:VEVENT
BEGIN:VEVENT
DTSTART;TZID=America/Chicago:20230507T110000
DTEND;TZID=America/Chicago:20230507T160000
DTSTAMP:20260421T214557
CREATED:20230424T183531Z
LAST-MODIFIED:20230424T184232Z
UID:15458-1683457200-1683475200@pass-christian.com
SUMMARY:Tour of Homes\, Sunday\, May 7\, 2023
DESCRIPTION:Tour of Homes\, Sunday\, May 7\, 2023 \n \n  \n 
URL:https://pass-christian.com/event/tour-of-homes-sunday-may-7-2023/
LOCATION:MS
CATEGORIES:Events
END:VEVENT
BEGIN:VEVENT
DTSTART;TZID=America/Chicago:20230510T100000
DTEND;TZID=America/Chicago:20230510T113000
DTSTAMP:20260421T214557
CREATED:20230509T141315Z
LAST-MODIFIED:20230509T144052Z
UID:15682-1683712800-1683718200@pass-christian.com
SUMMARY:TREE BOARD MEETING
DESCRIPTION:
URL:https://pass-christian.com/event/tree-board-meeting/
LOCATION:Pass Christian City Hall\, 200 West Scenic Drive\, Pass Christian\, MS\, 39571\, United States
CATEGORIES:Board and Commission Meetings
END:VEVENT
BEGIN:VEVENT
DTSTART;TZID=America/Chicago:20230516T180000
DTEND;TZID=America/Chicago:20230516T200000
DTSTAMP:20260421T214557
CREATED:20230516T143838Z
LAST-MODIFIED:20250113T194950Z
UID:15754-1684260000-1684267200@pass-christian.com
SUMMARY:MEETING OF MAYOR & ALDERPERSONS
DESCRIPTION:
URL:https://pass-christian.com/event/meeting-of-mayor-alderpersons-2/
LOCATION:Pass Christian City Hall\, 200 West Scenic Drive\, Pass Christian\, MS\, 39571\, United States
CATEGORIES:Board and Commission Meetings,Events,Meetings
END:VEVENT
BEGIN:VEVENT
DTSTART;TZID=America/Chicago:20230530T055000
DTEND;TZID=America/Chicago:20230530T193000
DTSTAMP:20260421T214557
CREATED:20230214T181956Z
LAST-MODIFIED:20241208T212835Z
UID:14239-1685425800-1685475000@pass-christian.com
SUMMARY:Planning Commission Meeting
DESCRIPTION:PLANNING COMMISSION\nMEETING AGENDA\nTUESDAY\, MAY 30\, 2023
URL:https://pass-christian.com/event/planning-commission-meeting-7/
LOCATION:Pass Christian City Hall\, 200 West Scenic Drive\, Pass Christian\, MS\, 39571\, United States
CATEGORIES:Board and Commission Meetings,Meetings
END:VEVENT
END:VCALENDAR